BEGIN:VCALENDAR
VERSION:2.0
PRODID:-//Colorado Consortium for Prescription Drug Abuse Prevention - ECPv6.15.20//NONSGML v1.0//EN
CALSCALE:GREGORIAN
METHOD:PUBLISH
X-WR-CALNAME:Colorado Consortium for Prescription Drug Abuse Prevention
X-ORIGINAL-URL:https://corxconsortium.org
X-WR-CALDESC:Events for Colorado Consortium for Prescription Drug Abuse Prevention
REFRESH-INTERVAL;VALUE=DURATION:PT1H
X-Robots-Tag:noindex
X-PUBLISHED-TTL:PT1H
BEGIN:VTIMEZONE
TZID:America/Denver
BEGIN:DAYLIGHT
TZOFFSETFROM:-0700
TZOFFSETTO:-0600
TZNAME:MDT
DTSTART:20240310T090000
END:DAYLIGHT
BEGIN:STANDARD
TZOFFSETFROM:-0600
TZOFFSETTO:-0700
TZNAME:MST
DTSTART:20241103T080000
END:STANDARD
BEGIN:DAYLIGHT
TZOFFSETFROM:-0700
TZOFFSETTO:-0600
TZNAME:MDT
DTSTART:20250309T090000
END:DAYLIGHT
BEGIN:STANDARD
TZOFFSETFROM:-0600
TZOFFSETTO:-0700
TZNAME:MST
DTSTART:20251102T080000
END:STANDARD
BEGIN:DAYLIGHT
TZOFFSETFROM:-0700
TZOFFSETTO:-0600
TZNAME:MDT
DTSTART:20260308T090000
END:DAYLIGHT
BEGIN:STANDARD
TZOFFSETFROM:-0600
TZOFFSETTO:-0700
TZNAME:MST
DTSTART:20261101T080000
END:STANDARD
BEGIN:DAYLIGHT
TZOFFSETFROM:-0700
TZOFFSETTO:-0600
TZNAME:MDT
DTSTART:20270314T090000
END:DAYLIGHT
BEGIN:STANDARD
TZOFFSETFROM:-0600
TZOFFSETTO:-0700
TZNAME:MST
DTSTART:20271107T080000
END:STANDARD
END:VTIMEZONE
BEGIN:VEVENT
DTSTART;TZID=America/Denver:20260109T120000
DTEND;TZID=America/Denver:20260109T133000
DTSTAMP:20260419T062513
CREATED:20251121T191233Z
LAST-MODIFIED:20251121T191234Z
UID:10000495-1767960000-1767965400@corxconsortium.org
SUMMARY:Recovery Work Group
DESCRIPTION:
URL:https://corxconsortium.org/calendar/recovery-work-group-3-2-2/
LOCATION:Zoom web meeting\, CO\, United States
CATEGORIES:Work Groups
END:VEVENT
BEGIN:VEVENT
DTSTART;TZID=America/Denver:20251211T130000
DTEND;TZID=America/Denver:20251211T140000
DTSTAMP:20260419T062513
CREATED:20250114T183957Z
LAST-MODIFIED:20251202T225610Z
UID:10000481-1765458000-1765461600@corxconsortium.org
SUMMARY:Treatment Work Group
DESCRIPTION:
URL:https://corxconsortium.org/calendar/treatment-work-group-2/
LOCATION:Zoom web meeting\, CO\, United States
CATEGORIES:Work Groups
END:VEVENT
BEGIN:VEVENT
DTSTART;TZID=America/Denver:20251203T103000
DTEND;TZID=America/Denver:20251203T120000
DTSTAMP:20260419T062513
CREATED:20250113T231304Z
LAST-MODIFIED:20251202T225208Z
UID:10000445-1764757800-1764763200@corxconsortium.org
SUMMARY:Safe Disposal Work Group CANCELLED
DESCRIPTION:
URL:https://corxconsortium.org/calendar/safe-disposal-work-group-december2025/
LOCATION:Zoom web meeting\, CO\, United States
CATEGORIES:Work Groups
END:VEVENT
BEGIN:VEVENT
DTSTART;TZID=America/Denver:20251120T120000
DTEND;TZID=America/Denver:20251120T133000
DTSTAMP:20260419T062513
CREATED:20250113T211530Z
LAST-MODIFIED:20250113T211530Z
UID:10000432-1763640000-1763645400@corxconsortium.org
SUMMARY:Affected Families and Friends Work Group
DESCRIPTION:
URL:https://corxconsortium.org/calendar/affected-families-and-friends-work-group-november2025/
LOCATION:Zoom web meeting\, CO\, United States
CATEGORIES:Work Groups
END:VEVENT
BEGIN:VEVENT
DTSTART;TZID=America/Denver:20251119T120000
DTEND;TZID=America/Denver:20251119T133000
DTSTAMP:20260419T062513
CREATED:20250113T212355Z
LAST-MODIFIED:20250113T212355Z
UID:10000441-1763553600-1763559000@corxconsortium.org
SUMMARY:Public Awareness Work Group
DESCRIPTION:
URL:https://corxconsortium.org/calendar/public-awareness-work-group-2/2025-11-19/
LOCATION:Zoom web meeting\, CO\, United States
CATEGORIES:Work Groups
END:VEVENT
BEGIN:VEVENT
DTSTART;TZID=America/Denver:20251114T120000
DTEND;TZID=America/Denver:20251114T133000
DTSTAMP:20260419T062513
CREATED:20251002T201947Z
LAST-MODIFIED:20251002T201949Z
UID:10000494-1763121600-1763127000@corxconsortium.org
SUMMARY:Recovery Work Group
DESCRIPTION:
URL:https://corxconsortium.org/calendar/recovery-work-group-3-2/2025-11-14/
LOCATION:Zoom web meeting\, CO\, United States
CATEGORIES:Work Groups
END:VEVENT
BEGIN:VEVENT
DTSTART;TZID=America/Denver:20251111T130000
DTEND;TZID=America/Denver:20251111T143000
DTSTAMP:20260419T062513
CREATED:20250114T181109Z
LAST-MODIFIED:20250114T181109Z
UID:10000451-1762866000-1762871400@corxconsortium.org
SUMMARY:Harm Reduction Work Group
DESCRIPTION:
URL:https://corxconsortium.org/calendar/harm-reduction-work-group/2025-11-11/
LOCATION:Zoom web meeting\, CO\, United States
CATEGORIES:Work Groups
END:VEVENT
BEGIN:VEVENT
DTSTART;TZID=America/Denver:20251020T140000
DTEND;TZID=America/Denver:20251020T150000
DTSTAMP:20260419T062513
CREATED:20250114T182504Z
LAST-MODIFIED:20250114T182857Z
UID:10000475-1760968800-1760972400@corxconsortium.org
SUMMARY:Recovery Friendly Workplaces Work Group
DESCRIPTION:
URL:https://corxconsortium.org/calendar/recovery-friendly-workplaces-work-group/2025-10-20/
LOCATION:Zoom web meeting\, CO\, United States
CATEGORIES:Work Groups
END:VEVENT
BEGIN:VEVENT
DTSTART;TZID=America/Denver:20251016T120000
DTEND;TZID=America/Denver:20251016T130000
DTSTAMP:20260419T062513
CREATED:20250114T181506Z
LAST-MODIFIED:20250114T181506Z
UID:10000455-1760616000-1760619600@corxconsortium.org
SUMMARY:Provider Education Work Group
DESCRIPTION:
URL:https://corxconsortium.org/calendar/provider-education-work-group/2025-10-16/
LOCATION:Zoom web meeting\, CO\, United States
CATEGORIES:Provider Education,Work Groups
END:VEVENT
BEGIN:VEVENT
DTSTART;TZID=America/Denver:20251010T120000
DTEND;TZID=America/Denver:20251010T133000
DTSTAMP:20260419T062513
CREATED:20251002T201947Z
LAST-MODIFIED:20251002T201949Z
UID:10000465-1760097600-1760103000@corxconsortium.org
SUMMARY:Recovery Work Group
DESCRIPTION:
URL:https://corxconsortium.org/calendar/recovery-work-group-3-2/2025-10-10/
LOCATION:Zoom web meeting\, CO\, United States
CATEGORIES:Work Groups
END:VEVENT
BEGIN:VEVENT
DTSTART;TZID=America/Denver:20250925T120000
DTEND;TZID=America/Denver:20250925T130000
DTSTAMP:20260419T062513
CREATED:20250114T183523Z
LAST-MODIFIED:20250114T183523Z
UID:10000480-1758801600-1758805200@corxconsortium.org
SUMMARY:Treatment Work Group
DESCRIPTION:
URL:https://corxconsortium.org/calendar/treatment-work-group/2025-09-25/
LOCATION:Zoom web meeting\, CO\, United States
CATEGORIES:Work Groups
END:VEVENT
BEGIN:VEVENT
DTSTART;TZID=America/Denver:20250910T103000
DTEND;TZID=America/Denver:20250910T120000
DTSTAMP:20260419T062513
CREATED:20250113T231204Z
LAST-MODIFIED:20250113T231204Z
UID:10000444-1757500200-1757505600@corxconsortium.org
SUMMARY:Safe Disposal Work Group
DESCRIPTION:
URL:https://corxconsortium.org/calendar/safe-disposal-work-group-september2025/
LOCATION:Zoom web meeting\, CO\, United States
CATEGORIES:Work Groups
END:VEVENT
BEGIN:VEVENT
DTSTART;TZID=America/Denver:20250909T163000
DTEND;TZID=America/Denver:20250909T180000
DTSTAMP:20260419T062513
CREATED:20250114T181952Z
LAST-MODIFIED:20250114T181952Z
UID:10000464-1757435400-1757440800@corxconsortium.org
SUMMARY:Recovery Work Group
DESCRIPTION:
URL:https://corxconsortium.org/calendar/recovery-work-group-3/2025-09-09/
LOCATION:Zoom web meeting\, CO\, United States
CATEGORIES:Work Groups
END:VEVENT
BEGIN:VEVENT
DTSTART;TZID=America/Denver:20250909T130000
DTEND;TZID=America/Denver:20250909T143000
DTSTAMP:20260419T062513
CREATED:20250114T181109Z
LAST-MODIFIED:20250114T181109Z
UID:10000450-1757422800-1757428200@corxconsortium.org
SUMMARY:Harm Reduction Work Group
DESCRIPTION:
URL:https://corxconsortium.org/calendar/harm-reduction-work-group/2025-09-09/
LOCATION:Zoom web meeting\, CO\, United States
CATEGORIES:Work Groups
END:VEVENT
BEGIN:VEVENT
DTSTART;TZID=America/Denver:20250821T120000
DTEND;TZID=America/Denver:20250821T133000
DTSTAMP:20260419T062513
CREATED:20250113T211333Z
LAST-MODIFIED:20250113T211333Z
UID:10000431-1755777600-1755783000@corxconsortium.org
SUMMARY:Affected Families and Friends Work Group
DESCRIPTION:
URL:https://corxconsortium.org/calendar/affected-families-and-friends-work-group-august2025/
LOCATION:Zoom web meeting\, CO\, United States
CATEGORIES:Work Groups
END:VEVENT
BEGIN:VEVENT
DTSTART;TZID=America/Denver:20250820T120000
DTEND;TZID=America/Denver:20250820T133000
DTSTAMP:20260419T062513
CREATED:20250113T212355Z
LAST-MODIFIED:20250113T212355Z
UID:10000440-1755691200-1755696600@corxconsortium.org
SUMMARY:Public Awareness Work Group
DESCRIPTION:
URL:https://corxconsortium.org/calendar/public-awareness-work-group-2/2025-08-20/
LOCATION:Zoom web meeting\, CO\, United States
CATEGORIES:Work Groups
END:VEVENT
BEGIN:VEVENT
DTSTART;TZID=America/Denver:20250812T163000
DTEND;TZID=America/Denver:20250812T180000
DTSTAMP:20260419T062513
CREATED:20250114T181952Z
LAST-MODIFIED:20250114T181952Z
UID:10000463-1755016200-1755021600@corxconsortium.org
SUMMARY:Recovery Work Group
DESCRIPTION:
URL:https://corxconsortium.org/calendar/recovery-work-group-3/2025-08-12/
LOCATION:Zoom web meeting\, CO\, United States
CATEGORIES:Work Groups
END:VEVENT
BEGIN:VEVENT
DTSTART;TZID=America/Denver:20250724T120000
DTEND;TZID=America/Denver:20250724T130000
DTSTAMP:20260419T062513
CREATED:20250114T183523Z
LAST-MODIFIED:20250114T183523Z
UID:10000479-1753358400-1753362000@corxconsortium.org
SUMMARY:Treatment Work Group
DESCRIPTION:
URL:https://corxconsortium.org/calendar/treatment-work-group/2025-07-24/
LOCATION:Zoom web meeting\, CO\, United States
CATEGORIES:Work Groups
END:VEVENT
BEGIN:VEVENT
DTSTART;TZID=America/Denver:20250721T140000
DTEND;TZID=America/Denver:20250721T150000
DTSTAMP:20260419T062513
CREATED:20250114T182504Z
LAST-MODIFIED:20250114T182857Z
UID:10000474-1753106400-1753110000@corxconsortium.org
SUMMARY:Recovery Friendly Workplaces Work Group
DESCRIPTION:
URL:https://corxconsortium.org/calendar/recovery-friendly-workplaces-work-group/2025-07-21/
LOCATION:Zoom web meeting\, CO\, United States
CATEGORIES:Work Groups
END:VEVENT
BEGIN:VEVENT
DTSTART;TZID=America/Denver:20250717T120000
DTEND;TZID=America/Denver:20250717T130000
DTSTAMP:20260419T062513
CREATED:20250114T181506Z
LAST-MODIFIED:20250114T181506Z
UID:10000454-1752753600-1752757200@corxconsortium.org
SUMMARY:Provider Education Work Group
DESCRIPTION:
URL:https://corxconsortium.org/calendar/provider-education-work-group/2025-07-17/
LOCATION:Zoom web meeting\, CO\, United States
CATEGORIES:Provider Education,Work Groups
END:VEVENT
BEGIN:VEVENT
DTSTART;TZID=America/Denver:20250708T163000
DTEND;TZID=America/Denver:20250708T180000
DTSTAMP:20260419T062513
CREATED:20250114T181952Z
LAST-MODIFIED:20250114T181952Z
UID:10000462-1751992200-1751997600@corxconsortium.org
SUMMARY:Recovery Work Group
DESCRIPTION:
URL:https://corxconsortium.org/calendar/recovery-work-group-3/2025-07-08/
LOCATION:Zoom web meeting\, CO\, United States
CATEGORIES:Work Groups
END:VEVENT
BEGIN:VEVENT
DTSTART;TZID=America/Denver:20250708T130000
DTEND;TZID=America/Denver:20250708T143000
DTSTAMP:20260419T062513
CREATED:20250114T181109Z
LAST-MODIFIED:20250114T181109Z
UID:10000449-1751979600-1751985000@corxconsortium.org
SUMMARY:Harm Reduction Work Group
DESCRIPTION:
URL:https://corxconsortium.org/calendar/harm-reduction-work-group/2025-07-08/
LOCATION:Zoom web meeting\, CO\, United States
CATEGORIES:Work Groups
END:VEVENT
BEGIN:VEVENT
DTSTART;TZID=America/Denver:20250618T103000
DTEND;TZID=America/Denver:20250618T120000
DTSTAMP:20260419T062513
CREATED:20250113T231059Z
LAST-MODIFIED:20250113T231059Z
UID:10000443-1750242600-1750248000@corxconsortium.org
SUMMARY:Safe Disposal Work Group
DESCRIPTION:
URL:https://corxconsortium.org/calendar/safe-disposal-work-group-june2025/
LOCATION:Zoom web meeting\, CO\, United States
CATEGORIES:Work Groups
END:VEVENT
BEGIN:VEVENT
DTSTART;TZID=America/Denver:20250610T163000
DTEND;TZID=America/Denver:20250610T180000
DTSTAMP:20260419T062513
CREATED:20250114T181952Z
LAST-MODIFIED:20250114T181952Z
UID:10000461-1749573000-1749578400@corxconsortium.org
SUMMARY:Recovery Work Group
DESCRIPTION:
URL:https://corxconsortium.org/calendar/recovery-work-group-3/2025-06-10/
LOCATION:Zoom web meeting\, CO\, United States
CATEGORIES:Work Groups
END:VEVENT
BEGIN:VEVENT
DTSTART;TZID=America/Denver:20250522T120000
DTEND;TZID=America/Denver:20250522T130000
DTSTAMP:20260419T062513
CREATED:20250114T183523Z
LAST-MODIFIED:20250114T183523Z
UID:10000478-1747915200-1747918800@corxconsortium.org
SUMMARY:Treatment Work Group
DESCRIPTION:
URL:https://corxconsortium.org/calendar/treatment-work-group/2025-05-22/
LOCATION:Zoom web meeting\, CO\, United States
CATEGORIES:Work Groups
END:VEVENT
BEGIN:VEVENT
DTSTART;TZID=America/Denver:20250521T120000
DTEND;TZID=America/Denver:20250521T133000
DTSTAMP:20260419T062513
CREATED:20250113T212355Z
LAST-MODIFIED:20250113T212355Z
UID:10000439-1747828800-1747834200@corxconsortium.org
SUMMARY:Public Awareness Work Group
DESCRIPTION:
URL:https://corxconsortium.org/calendar/public-awareness-work-group-2/2025-05-21/
LOCATION:Zoom web meeting\, CO\, United States
CATEGORIES:Work Groups
END:VEVENT
BEGIN:VEVENT
DTSTART;TZID=America/Denver:20250515T120000
DTEND;TZID=America/Denver:20250515T133000
DTSTAMP:20260419T062513
CREATED:20250113T211137Z
LAST-MODIFIED:20250113T211137Z
UID:10000430-1747310400-1747315800@corxconsortium.org
SUMMARY:Affected Families and Friends Work Group
DESCRIPTION:
URL:https://corxconsortium.org/calendar/affected-families-and-friends-work-group-may2025/
LOCATION:Zoom web meeting\, CO\, United States
CATEGORIES:Work Groups
END:VEVENT
BEGIN:VEVENT
DTSTART;TZID=America/Denver:20250513T163000
DTEND;TZID=America/Denver:20250513T180000
DTSTAMP:20260419T062513
CREATED:20250114T181952Z
LAST-MODIFIED:20250114T181952Z
UID:10000460-1747153800-1747159200@corxconsortium.org
SUMMARY:Recovery Work Group
DESCRIPTION:
URL:https://corxconsortium.org/calendar/recovery-work-group-3/2025-05-13/
LOCATION:Zoom web meeting\, CO\, United States
CATEGORIES:Work Groups
END:VEVENT
BEGIN:VEVENT
DTSTART;TZID=America/Denver:20250513T130000
DTEND;TZID=America/Denver:20250513T143000
DTSTAMP:20260419T062513
CREATED:20250114T181109Z
LAST-MODIFIED:20250114T181109Z
UID:10000448-1747141200-1747146600@corxconsortium.org
SUMMARY:Harm Reduction Work Group
DESCRIPTION:
URL:https://corxconsortium.org/calendar/harm-reduction-work-group/2025-05-13/
LOCATION:Zoom web meeting\, CO\, United States
CATEGORIES:Work Groups
END:VEVENT
BEGIN:VEVENT
DTSTART;TZID=America/Denver:20250421T140000
DTEND;TZID=America/Denver:20250421T150000
DTSTAMP:20260419T062513
CREATED:20250114T182504Z
LAST-MODIFIED:20250114T182857Z
UID:10000473-1745244000-1745247600@corxconsortium.org
SUMMARY:Recovery Friendly Workplaces Work Group
DESCRIPTION:
URL:https://corxconsortium.org/calendar/recovery-friendly-workplaces-work-group/2025-04-21/
LOCATION:Zoom web meeting\, CO\, United States
CATEGORIES:Work Groups
END:VEVENT
END:VCALENDAR